Workbook

Sheet Data
A1: ANALISIS PENGUKURAN HASIL PEMBELAJARAN PROGRAM (PLO)
A3: NAMA FAKULTI: | C3: FBIM
A4: NAMA PROGRAM: | C4: SARJANA MUDA TEKNOLOGI MAKANAN DENGAN KEPUJIAN
A5: AMBILAN KEMASUKAN: | C5: 2021/2022 & 2022/2023
E7: 2020/2021 | P7: 2021/2022
E8: Peratus Bilangan Pelajar Mencapai Markah 50% ke atas (Rujuk Laporan CQI) | P8: Peratus Bilangan Pelajar Mencapai Markah 50% ke atas (Rujuk Laporan CQI)
A9: BIL | B9: KOD KURSUS | C9: NAMA KURSUS | D9: JAM KREDIT | E9: MQF1 | F9: MQF2 | G9: MQF3a | H9: MQF3b | I9: MQF3c | J9: MQF3d | K9: MQF3e | L9: MQF3f | M9: MQF4a | N9: MQF4b | O9: MQF5 | P9: MQF1 | Q9: MQF2 | R9: MQF3a | S9: MQF3b | T9: MQF3c | U9: MQF3d | V9: MQF3e | W9: MQF3f | X9: MQF4a | Y9: MQF4b | Z9: MQF5
E10: PLO1 | F10: PLO2 | G10: PLO3 | H10: PLO4 | I10: PLO5 | J10: PLO6 | K10: PLO7 | L10: PLO8 | M10: PLO9 | N10: PLO10 | O10: PLO11 | P10: PLO1 | Q10: PLO2 | R10: PLO3 | S10: PLO4 | T10: PLO5 | U10: PLO6 | V10: PLO7 | W10: PLO8 | X10: PLO9 | Y10: PLO10 | Z10: PLO11
A11: 1 | B11: ABC 1235 | C11: Contoh 1 | D11: 3 | E11: 100 | G11: 95 | J11: 85 | P11: 95 | R11: 95 | U11: 90
A12: 2 | B12: ABC 1236 | C12: Contoh 2 | D12: 3 | F12: 90 | K12: 85 | M12: 95 | Q12: 85 | V12: 86 | X12: 92
A13: 3 | B13: ABC 1237 | C13: Contoh 3 | D13: 3 | E13: 95 | H13: 98 | L13: 95 | N13: 96 | P13: 95 | S13: 90 | W13: 100 | Y13: 94
A14: 4 | B14: ABC 1238 | C14: Contoh 4 | F14: 92 | Q14: 90
A15: 5 | B15: ABC 1239 | C15: Contoh 5 | F15: 95 | I15: 100 | O15: 95 | Q15: 95 | T15: 100 | Z15: 80
A16: 6
A17: 7
A18: 8
A19: 9
A20: 10
A21: 11
A22: 12
A23: 13
A24: 14
A25: 15
A26: 16
A27: 17
... A55: 45
C56: PURATA | D56: =SUM(D11:D55) -> 9 | E56: =AVERAGE(E11:E55) -> 97.5 | F56: =AVERAGE(F11:F55) -> 92.333333 | G56: =AVERAGE(G11:G55) -> 95 | H56: =AVERAGE(H11:H55) -> 98 | I56: =AVERAGE(I11:I55) -> 100 | J56: =AVERAGE(J11:J55) -> 85 | K56: =AVERAGE(K11:K55) -> 85 | L56: =AVERAGE(L11:L55) -> 95 | ... Z56: =AVERAGE(Z11:Z55) -> 80

Sheet PLOs & MQF Average
A1: PURATA MARKAH PENCAPAIAN MENGIKUT PLO & MQF
A3: =Data!A3 -> NAMA FAKULTI: | B3: =Data!C3 -> FBIM
A4: =Data!A4 -> NAMA PROGRAM: | B4: =Data!C4 -> SARJANA MUDA TEKNOLOGI MAKANAN DENGAN KEPUJIAN
A5: =Data!A5 -> AMBILAN KEMASUKAN: | B5: =Data!C5 -> 2021/2022 & 2022/2023
A7: MQF Learning Domains | B7: PLO | C7: MQF | D7: Target | E7: Ambilan Kemasukan
E8: =Data!E7 -> 2020/2021 | F8: =Data!P7 -> 2021/2022
A9: Knowledge & Understanding | B9: PLO1 | C9: MQF1 | D9: 50 | E9: =Data!E56 -> 97.5 | F9: =Data!P$56 -> 95
A10: Cognitive Skills / Higher Order Thinking | B10: PLO2 | C10: MQF2 | D10: 50 | E10: =Data!F$56 -> 92.333333 | F10: =Data!Q$56 -> 90
A11: Practical Skills | B11: PLO3 | C11: MQF3a | D11: 50 | E11: =Data!G$56 -> 95 | F11: =Data!R$56 -> 95
A12: Interpersonal Skills | B12: PLO4 | C12: MQF3b | D12: 50 | E12: =Data!H$56 -> 98 | F12: =Data!S$56 -> 90
A13: Communication Skills | B13: PLO5 | C13: MQF3c | D13: 50 | E13: =Data!I$56 -> 100 | F13: =Data!T$56 -> 100
A14: Digital Skills | B14: PLO6 | C14: MQF3d | D14: 50 | E14: =Data!J$56 -> 85 | F14: =Data!U$56 -> 90
A15: Numeracy Skills | B15: PLO7 | C15: MQF3e | D15: 50 | E15: =Data!K$56 -> 85 | F15: =Data!V$56 -> 86
A16: Leadership, Autonomy & Responsibility | B16: PLO8 | C16: MQF3f | D16: 50 | E16: =Data!L$56 -> 95 | F16: =Data!W$56 -> 100
A17: Personal Skills | B17: PLO9 | C17: MQF4a | D17: 50 | E17: =Data!M$56 -> 95 | F17: =Data!X$56 -> 92
A18: Entrepreneurial Skills | B18: PLO10 | C18: MQF4b | D18: 50 | E18: =Data!N$56 -> 96 | F18: =Data!Y$56 -> 94
A19: Ethics and Profesionalisme | B19: PLO11 | C19: MQF5 | D19: 50 | E19: =Data!O$56 -> 95 | F19: =Data!Z$56 -> 80

Sheet PLOs Average
A1: PURATA MARKAH PENCAPAIAN MENGIKUT PLO
A3: =Data!A3 -> NAMA FAKULTI: | D3: =Data!C3 -> FBIM
A4: =Data!A4 -> NAMA PROGRAM: | D4: =Data!C4 -> SARJANA MUDA TEKNOLOGI MAKANAN DENGAN KEPUJIAN
A5: =Data!A5 -> AMBILAN KEMASUKAN: | D5: =Data!C5 -> 2021/2022 & 2022/2023
A8: PLO | B8: Target | C8: Ambilan Kemasukan
C9: ='PLOs & MQF Average'!E8 -> 2020/2021 | D9: ='PLOs & MQF Average'!F8 -> 2021/2022
A10: PLO1 | B10: 50 | C10: ='PLOs & MQF Average'!E9 -> 97.5 | D10: ='PLOs & MQF Average'!F9 -> 95
A11: PLO2 | B11: 50 | C11: ='PLOs & MQF Average'!E10 -> 92.333333 | D11: ='PLOs & MQF Average'!F10 -> 90
A12: PLO3 | B12: 50 | C12: ='PLOs & MQF Average'!E11 -> 95 | D12: ='PLOs & MQF Average'!F11 -> 95
A13: PLO4 | B13: 50 | C13: ='PLOs & MQF Average'!E12 -> 98 | D13: ='PLOs & MQF Average'!F12 -> 90
A14: PLO5 | B14: 50 | C14: ='PLOs & MQF Average'!E13 -> 100 | D14: ='PLOs & MQF Average'!F13 -> 100
A15: PLO6 | B15: 50 | C15: ='PLOs & MQF Average'!E14 -> 85 | D15: ='PLOs & MQF Average'!F14 -> 90
A16: PLO7 | B16: 50 | C16: ='PLOs & MQF Average'!E15 -> 85 | D16: ='PLOs & MQF Average'!F15 -> 86
A17: PLO8 | B17: 50 | C17: ='PLOs & MQF Average'!E16 -> 95 | D17: ='PLOs & MQF Average'!F16 -> 100
A18: PLO9 | B18: 50 | C18: ='PLOs & MQF Average'!E17 -> 95 | D18: ='PLOs & MQF Average'!F17 -> 92
A19: PLO10 | B19: 50 | C19: ='PLOs & MQF Average'!E18 -> 96 | D19: ='PLOs & MQF Average'!F18 -> 94
A20: PLO11 | B20: 50 | C20: ='PLOs & MQF Average'!E19 -> 95 | D20: ='PLOs & MQF Average'!F19 -> 80

Sheet MQF Average
A1: PURATA MARKAH PENCAPAIAN MENGIKUT DOMAIN MQF
A3: =Data!A3 -> NAMA FAKULTI: | D3: =Data!C3 -> FBIM
A4: =Data!A4 -> NAMA PROGRAM: | D4: =Data!C4 -> SARJANA MUDA TEKNOLOGI MAKANAN DENGAN KEPUJIAN
A5: =Data!A5 -> AMBILAN KEMASUKAN: | D5: =Data!C5 -> 2021/2022 & 2022/2023
A8: MQF | B8: Target | C8: Ambilan Kemasukan
C9: ='PLOs & MQF Average'!E8 -> 2020/2021 | D9: ='PLOs & MQF Average'!F8 -> 2021/2022
A10: MQF1 | B10: 50 | C10: ='PLOs & MQF Average'!E9 -> 97.5 | D10: ='PLOs & MQF Average'!F9 -> 95
A11: MQF2 | B11: 50 | C11: ='PLOs & MQF Average'!E10 -> 92.333333 | D11: ='PLOs & MQF Average'!F10 -> 90
A12: MQF3a | B12: 50 | C12: ='PLOs & MQF Average'!E11 -> 95 | D12: ='PLOs & MQF Average'!F11 -> 95
A13: MQF3b | B13: 50 | C13: ='PLOs & MQF Average'!E12 -> 98 | D13: ='PLOs & MQF Average'!F12 -> 90
A14: MQF3c | B14: 50 | C14: ='PLOs & MQF Average'!E13 -> 100 | D14: ='PLOs & MQF Average'!F13 -> 100
A15: MQF3d | B15: 50 | C15: ='PLOs & MQF Average'!E14 -> 85 | D15: ='PLOs & MQF Average'!F14 -> 90
A16: MQF3e | B16: 50 | C16: ='PLOs & MQF Average'!E15 -> 85 | D16: ='PLOs & MQF Average'!F15 -> 86
A17: MQF3f | B17: 50 | C17: ='PLOs & MQF Average'!E16 -> 95 | D17: ='PLOs & MQF Average'!F16 -> 100
A18: MQF4a | B18: 50 | C18: ='PLOs & MQF Average'!E17 -> 95 | D18: ='PLOs & MQF Average'!F17 -> 92
A19: MQF4b | B19: 50 | C19: ='PLOs & MQF Average'!E18 -> 96 | D19: ='PLOs & MQF Average'!F18 -> 94
A20: MQF5 | B20: 50 | C20: ='PLOs & MQF Average'!E19 -> 95 | D20: ='PLOs & MQF Average'!F19 -> 80
